{
 "currentVersion": 11.0,
 "serviceDescription": "Cemetery/CottageCemPaperMap",
 "name": "Cemetery/CottageCemPaperMap",
 "description": "",
 "extent": {
  "xmin": 1026102.7020981205,
  "ymin": 883324.1851414954,
  "xmax": 1026588.9526419875,
  "ymax": 883864.1585204662,
  "spatialReference": {
   "wkt": "PROJCS[\"NAD_1983_StatePlane_New_York_West_FIPS_3103_Feet\",GEOGCS[\"GCS_North_American_1983\",DATUM[\"D_North_American_1983\",SPHEROID[\"GRS_1980\",6378137.0,298.257222101]],PRIMEM[\"Greenwich\",0.0],UNIT[\"Degree\",0.0174532925199433]],PROJECTION[\"Transverse_Mercator\"],PARAMETER[\"False_Easting\",1148291.667],PARAMETER[\"False_Northing\",0.0],PARAMETER[\"Central_Meridian\",-78.5833333333333],PARAMETER[\"Scale_Factor\",0.9999375],PARAMETER[\"Latitude_Of_Origin\",40.0],UNIT[\"Foot_US\",0.3048006096012192]]"
  }
 },
 "initialExtent": {
  "xmin": 1026102.7020981205,
  "ymin": 883324.1851414954,
  "xmax": 1026588.9526419875,
  "ymax": 883864.1585204662,
  "spatialReference": {
   "wkt": "PROJCS[\"NAD_1983_StatePlane_New_York_West_FIPS_3103_Feet\",GEOGCS[\"GCS_North_American_1983\",DATUM[\"D_North_American_1983\",SPHEROID[\"GRS_1980\",6378137.0,298.257222101]],PRIMEM[\"Greenwich\",0.0],UNIT[\"Degree\",0.0174532925199433]],PROJECTION[\"Transverse_Mercator\"],PARAMETER[\"False_Easting\",1148291.667],PARAMETER[\"False_Northing\",0.0],PARAMETER[\"Central_Meridian\",-78.5833333333333],PARAMETER[\"Scale_Factor\",0.9999375],PARAMETER[\"Latitude_Of_Origin\",40.0],UNIT[\"Foot_US\",0.3048006096012192]]"
  }
 },
 "fullExtent": {
  "xmin": 1026102.7020981205,
  "ymin": 883324.1851414954,
  "xmax": 1026588.9526419875,
  "ymax": 883864.1585204662,
  "spatialReference": {
   "wkt": "PROJCS[\"NAD_1983_StatePlane_New_York_West_FIPS_3103_Feet\",GEOGCS[\"GCS_North_American_1983\",DATUM[\"D_North_American_1983\",SPHEROID[\"GRS_1980\",6378137.0,298.257222101]],PRIMEM[\"Greenwich\",0.0],UNIT[\"Degree\",0.0174532925199433]],PROJECTION[\"Transverse_Mercator\"],PARAMETER[\"False_Easting\",1148291.667],PARAMETER[\"False_Northing\",0.0],PARAMETER[\"Central_Meridian\",-78.5833333333333],PARAMETER[\"Scale_Factor\",0.9999375],PARAMETER[\"Latitude_Of_Origin\",40.0],UNIT[\"Foot_US\",0.3048006096012192]]"
  }
 },
 "sortableFields": "",
 "bandCount": 1,
 "pixelType": "S8",
 "minValues": [
  0
 ],
 "maxValues": [
  1
 ],
 "meanValues": [
  0.9284295666319317
 ],
 "stdvValues": [
  0.25777530291704115
 ],
 "hasMultidimensions": false,
 "pixelSizeX": 0.04502319850620417,
 "pixelSizeY": 0.03145414917986564,
 "datasetFormat": "SDR",
 "uncompressedSize": 185403600,
 "blockWidth": 128,
 "blockHeight": 128,
 "compressionType": "NONE",
 "bandNames": [
  "Band_1"
 ],
 "allowCopy": true,
 "allowAnalysis": true,
 "minPixelSize": 0,
 "maxPixelSize": 0,
 "copyrightText": "",
 "serviceDataType": "esriImageServiceDataTypeThematic",
 "serviceSourceType": "esriImageServiceSourceTypeDataset",
 "objectIdField": "",
 "fields": [],
 "capabilities": "Image,Metadata,Mensuration",
 "defaultMosaicMethod": "Center",
 "allowedMosaicMethods": "",
 "sortField": "",
 "sortValue": null,
 "sortAscending": true,
 "mosaicOperator": "First",
 "defaultCompressionQuality": 75,
 "defaultResamplingMethod": "Bilinear",
 "maxImageHeight": 4100,
 "maxImageWidth": 15000,
 "allowRasterFunction": true,
 "rasterFunctionInfos": [
  {
   "name": "None",
   "description": "",
   "help": ""
  }
 ],
 "rasterTypeInfos": [
  {
   "name": "Raster Dataset",
   "description": "Supports all ArcGIS Raster Datasets",
   "help": ""
  }
 ],
 "mensurationCapabilities": "Basic",
 "hasHistograms": true,
 "hasColormap": false,
 "hasRasterAttributeTable": false,
 "minScale": 0,
 "maxScale": 0,
 "exportTilesAllowed": false,
 "supportsStatistics": false,
 "supportsAdvancedQueries": false,
 "editFieldsInfo": null,
 "ownershipBasedAccessControlForRasters": null,
 "allowComputeTiePoints": false,
 "useStandardizedQueries": true,
 "advancedQueryCapabilities": {
  "useStandardizedQueries": true,
  "supportsStatistics": false,
  "supportsOrderBy": false,
  "supportsDistinct": false,
  "supportsPagination": false
 },
 "spatialReference": {
  "wkt": "PROJCS[\"NAD_1983_StatePlane_New_York_West_FIPS_3103_Feet\",GEOGCS[\"GCS_North_American_1983\",DATUM[\"D_North_American_1983\",SPHEROID[\"GRS_1980\",6378137.0,298.257222101]],PRIMEM[\"Greenwich\",0.0],UNIT[\"Degree\",0.0174532925199433]],PROJECTION[\"Transverse_Mercator\"],PARAMETER[\"False_Easting\",1148291.667],PARAMETER[\"False_Northing\",0.0],PARAMETER[\"Central_Meridian\",-78.5833333333333],PARAMETER[\"Scale_Factor\",0.9999375],PARAMETER[\"Latitude_Of_Origin\",40.0],UNIT[\"Foot_US\",0.3048006096012192]]"
 }
}
