{
 "currentVersion": 11.0,
 "serviceDescription": "Cemetery/VersCemPaperMap",
 "name": "Cemetery/VersCemPaperMap",
 "description": "",
 "extent": {
  "xmin": 1035717.1224328876,
  "ymin": 918142.6423351584,
  "xmax": 1035947.5929439275,
  "ymax": 918366.0297719784,
  "spatialReference": {
   "wkid": null
  }
 },
 "initialExtent": {
  "xmin": 1035717.1224328876,
  "ymin": 918142.6423351584,
  "xmax": 1035947.5929439275,
  "ymax": 918366.0297719784,
  "spatialReference": {
   "wkid": null
  }
 },
 "fullExtent": {
  "xmin": 1035717.1224328876,
  "ymin": 918142.6423351584,
  "xmax": 1035947.5929439275,
  "ymax": 918366.0297719784,
  "spatialReference": {
   "wkid": null
  }
 },
 "sortableFields": "",
 "bandCount": 3,
 "pixelType": "U16",
 "minValues": [
  13,
  13,
  2
 ],
 "maxValues": [
  255,
  255,
  255
 ],
 "meanValues": [
  223.05031958582939,
  204.7366759702269,
  181.8029193035645
 ],
 "stdvValues": [
  21.585904286257243,
  27.507495399300975,
  40.8814953398431
 ],
 "hasMultidimensions": false,
 "pixelSizeX": 0.01745988719999635,
 "pixelSizeY": 0.021900729099996206,
 "datasetFormat": "SDR",
 "uncompressedSize": 807840000,
 "blockWidth": 128,
 "blockHeight": 128,
 "compressionType": "NONE",
 "bandNames": [
  "Band_1",
  "Band_2",
  "Band_3"
 ],
 "allowCopy": true,
 "allowAnalysis": true,
 "minPixelSize": 0,
 "maxPixelSize": 0,
 "copyrightText": "",
 "serviceDataType": "esriImageServiceDataTypeGeneric",
 "serviceSourceType": "esriImageServiceSourceTypeDataset",
 "objectIdField": "",
 "fields": [],
 "capabilities": "Image,Metadata",
 "defaultMosaicMethod": "Center",
 "allowedMosaicMethods": "",
 "sortField": "",
 "sortValue": null,
 "sortAscending": true,
 "mosaicOperator": "First",
 "defaultCompressionQuality": 75,
 "defaultResamplingMethod": "Bilinear",
 "maxImageHeight": 4100,
 "maxImageWidth": 15000,
 "allowRasterFunction": true,
 "rasterFunctionInfos": [
  {
   "name": "None",
   "description": "",
   "help": ""
  }
 ],
 "rasterTypeInfos": [
  {
   "name": "Raster Dataset",
   "description": "Supports all ArcGIS Raster Datasets",
   "help": ""
  }
 ],
 "mensurationCapabilities": "",
 "hasHistograms": true,
 "hasColormap": false,
 "hasRasterAttributeTable": false,
 "minScale": 0,
 "maxScale": 0,
 "exportTilesAllowed": false,
 "supportsStatistics": false,
 "supportsAdvancedQueries": false,
 "editFieldsInfo": null,
 "ownershipBasedAccessControlForRasters": null,
 "allowComputeTiePoints": false,
 "useStandardizedQueries": true,
 "advancedQueryCapabilities": {
  "useStandardizedQueries": true,
  "supportsStatistics": false,
  "supportsOrderBy": false,
  "supportsDistinct": false,
  "supportsPagination": false
 },
 "spatialReference": {
  "wkid": null
 }
}
