{
 "currentVersion": 11.3,
 "serviceDescription": "HistoricalAerials/Catt_1939_ARM",
 "name": "HistoricalAerials/Catt_1939_ARM",
 "description": "",
 "extent": {
  "xmin": 1014149.1802579872,
  "ymin": 715594.6735516404,
  "xmax": 1227588.132890968,
  "ymax": 929358.3155054338,
  "spatialReference": {
   "wkid": 2907,
   "latestWkid": 2907
  }
 },
 "initialExtent": {
  "xmin": 1014149.1802579872,
  "ymin": 715594.6735516404,
  "xmax": 1227588.132890968,
  "ymax": 929358.3155054338,
  "spatialReference": {
   "wkid": 2907,
   "latestWkid": 2907
  }
 },
 "fullExtent": {
  "xmin": 1014149.1802579872,
  "ymin": 715594.6735516404,
  "xmax": 1227588.132890968,
  "ymax": 929358.3155054338,
  "spatialReference": {
   "wkid": 2907,
   "latestWkid": 2907
  }
 },
 "sortableFields": "",
 "bandCount": 3,
 "pixelType": "U8",
 "minValues": [
  0,
  0,
  0
 ],
 "maxValues": [
  254,
  255,
  255
 ],
 "meanValues": [
  87.92373173459373,
  97.72518129701174,
  97.9610392407117
 ],
 "stdvValues": [
  37.80776265012922,
  36.38245005806861,
  35.18378745365992
 ],
 "hasMultidimensions": false,
 "pixelSizeX": 9.839070328353877,
 "pixelSizeY": 9.839070328352825,
 "meanPixelSize": 2.99895463399137,
 "datasetFormat": "SDR",
 "uncompressedSize": 1413906354,
 "blockWidth": 128,
 "blockHeight": 128,
 "compressionType": "LZ77",
 "bandNames": [
  "Band_1",
  "Band_2",
  "Band_3"
 ],
 "allowCopy": false,
 "allowAnalysis": false,
 "itemAccess": false,
 "inspectionCapabilities": "",
 "minPixelSize": 0,
 "maxPixelSize": 0,
 "copyrightText": "",
 "serviceDataType": "esriImageServiceDataTypeRGB",
 "serviceSourceType": "esriImageServiceSourceTypeDataset",
 "objectIdField": "",
 "fields": [],
 "capabilities": "Image",
 "defaultMosaicMethod": "Center",
 "allowedMosaicMethods": "",
 "sortField": "",
 "sortValue": null,
 "sortAscending": true,
 "mosaicOperator": "First",
 "defaultCompressionQuality": 75,
 "defaultResamplingMethod": "Bilinear",
 "maxImageHeight": 4100,
 "maxImageWidth": 15000,
 "allowRasterFunction": true,
 "rasterFunctionInfos": [
  {
   "name": "None",
   "description": "",
   "help": ""
  }
 ],
 "rasterTypeInfos": [
  {
   "name": "Raster Dataset",
   "description": "Supports all ArcGIS Raster Datasets",
   "help": ""
  }
 ],
 "mensurationCapabilities": "Basic",
 "hasHistograms": true,
 "hasColormap": false,
 "hasRasterAttributeTable": false,
 "minScale": 0,
 "maxScale": 0,
 "exportTilesAllowed": false,
 "supportsStatistics": false,
 "supportsAdvancedQueries": false,
 "editFieldsInfo": null,
 "ownershipBasedAccessControlForRasters": null,
 "allowComputeTiePoints": false,
 "useStandardizedQueries": true,
 "advancedQueryCapabilities": {
  "useStandardizedQueries": true,
  "supportsStatistics": false,
  "supportsOrderBy": false,
  "supportsDistinct": false,
  "supportsPagination": false
 },
 "spatialReference": {
  "wkid": 2907,
  "latestWkid": 2907
 },
 "resampling": false
}
