{
 "currentVersion": 11.3,
 "serviceDescription": "HistoricalMaps/Beers_1859_3Band",
 "name": "HistoricalMaps/Beers_1859_3Band",
 "description": "",
 "extent": {
  "xmin": 1050274.1887766654,
  "ymin": 774863.341466568,
  "xmax": 1223923.8076030416,
  "ymax": 918893.3914388181,
  "spatialReference": {
   "wkid": 102717,
   "latestWkid": 2262
  }
 },
 "initialExtent": {
  "xmin": 1050274.1887766654,
  "ymin": 774863.341466568,
  "xmax": 1223923.8076030416,
  "ymax": 918893.3914388181,
  "spatialReference": {
   "wkid": 102717,
   "latestWkid": 2262
  }
 },
 "fullExtent": {
  "xmin": 1050274.1887766654,
  "ymin": 774863.341466568,
  "xmax": 1223923.8076030416,
  "ymax": 918893.3914388181,
  "spatialReference": {
   "wkid": 102717,
   "latestWkid": 2262
  }
 },
 "sortableFields": "",
 "bandCount": 3,
 "pixelType": "U16",
 "minValues": [
  1,
  1,
  1
 ],
 "maxValues": [
  257,
  257,
  257
 ],
 "meanValues": [
  227.42117557035274,
  224.16730587254952,
  218.66228746897352
 ],
 "stdvValues": [
  44.03212515469998,
  43.24215984686786,
  42.88698121449228
 ],
 "hasMultidimensions": false,
 "pixelSizeX": 10.04393653920853,
 "pixelSizeY": 10.043936539208516,
 "meanPixelSize": 3.0613979799467184,
 "datasetFormat": "SDR",
 "uncompressedSize": 1487545560,
 "blockWidth": 128,
 "blockHeight": 128,
 "compressionType": "LZ77",
 "bandNames": [
  "Band_1",
  "Band_2",
  "Band_3"
 ],
 "allowCopy": false,
 "allowAnalysis": false,
 "itemAccess": false,
 "inspectionCapabilities": "",
 "minPixelSize": 0,
 "maxPixelSize": 0,
 "copyrightText": "",
 "serviceDataType": "esriImageServiceDataTypeGeneric",
 "serviceSourceType": "esriImageServiceSourceTypeDataset",
 "objectIdField": "",
 "fields": [],
 "capabilities": "Image",
 "defaultMosaicMethod": "Center",
 "allowedMosaicMethods": "",
 "sortField": "",
 "sortValue": null,
 "sortAscending": true,
 "mosaicOperator": "First",
 "defaultCompressionQuality": 75,
 "defaultResamplingMethod": "Bilinear",
 "maxImageHeight": 4100,
 "maxImageWidth": 15000,
 "allowRasterFunction": true,
 "rasterFunctionInfos": [
  {
   "name": "None",
   "description": "",
   "help": ""
  }
 ],
 "rasterTypeInfos": [
  {
   "name": "Raster Dataset",
   "description": "Supports all ArcGIS Raster Datasets",
   "help": ""
  }
 ],
 "mensurationCapabilities": "Basic",
 "hasHistograms": true,
 "hasColormap": false,
 "hasRasterAttributeTable": false,
 "minScale": 0,
 "maxScale": 0,
 "exportTilesAllowed": false,
 "supportsStatistics": false,
 "supportsAdvancedQueries": false,
 "editFieldsInfo": null,
 "ownershipBasedAccessControlForRasters": null,
 "allowComputeTiePoints": false,
 "useStandardizedQueries": true,
 "advancedQueryCapabilities": {
  "useStandardizedQueries": true,
  "supportsStatistics": false,
  "supportsOrderBy": false,
  "supportsDistinct": false,
  "supportsPagination": false
 },
 "spatialReference": {
  "wkid": 102717,
  "latestWkid": 2262
 },
 "resampling": false
}
