<?xml version="1.0" encoding="UTF-8" standalone="no"?>
<metadata xml:lang="en">
<Esri>
<CreaDate>20141223</CreaDate>
<CreaTime>09163800</CreaTime>
<ArcGISFormat>1.0</ArcGISFormat>
<SyncOnce>FALSE</SyncOnce>
<DataProperties>
<itemProps>
<itemName Sync="TRUE">sde.SDE.raster2</itemName>
<imsContentType Sync="TRUE">002</imsContentType>
<nativeExtBox>
<westBL Sync="TRUE">1018120.396586</westBL>
<eastBL Sync="TRUE">1223425.733390</eastBL>
<southBL Sync="TRUE">727332.175641</southBL>
<northBL Sync="TRUE">926338.867840</northBL>
<exTypeCode Sync="TRUE">1</exTypeCode>
</nativeExtBox>
<itemLocation>
<linkage Sync="TRUE">Server=sde-lv; Service=sde:sqlserver:sde-lv; Database=sde; User=sde; Version=sde.DEFAULT</linkage>
<protocol Sync="TRUE">ArcSDE Connection</protocol>
</itemLocation>
</itemProps>
<lineage>
<Process Date="20201207" Time="145440" ToolSource="c:\users\cdholewinski\appdata\local\programs\arcgis\pro\Resources\ArcToolbox\toolboxes\Data Management Tools.tbx\Rename">Rename C:\Users\cdholewinski\AppData\Local\Temp\2\ArcGISProTemp892\df3323d5-373e-4d8b-afd0-4765fef4b19c\lv-sde(1).sde\sde.SDE.sde_SDE_CATTARAUGUS_1859_BEERS_4_BAND C:\Users\cdholewinski\AppData\Local\Temp\2\ArcGISProTemp892\df3323d5-373e-4d8b-afd0-4765fef4b19c\lv-sde(1).sde\sde.SDE.CATTARAUGUS_1859_BEERS_4_BAND RasterDataset</Process>
</lineage>
</DataProperties>
<SyncDate>20141223</SyncDate>
<SyncTime>09163800</SyncTime>
<ModDate>20141223</ModDate>
<ModTime>09163800</ModTime>
</Esri>
<dataIdInfo>
<envirDesc Sync="TRUE">Microsoft Windows 7 Version 6.1 (Build 7601) Service Pack 1; Esri ArcGIS 10.3.0.4322</envirDesc>
<dataLang>
<languageCode Sync="TRUE" value="eng"/>
<countryCode Sync="TRUE" value="USA"/>
</dataLang>
<idCitation>
<resTitle Sync="TRUE">Beers_1859_4Band</resTitle>
<presForm>
<PresFormCd Sync="TRUE" value="011"/>
</presForm>
</idCitation>
<spatRpType>
<SpatRepTypCd Sync="TRUE" value="002"/>
</spatRpType>
<idAbs/>
<idPurp/>
<idCredit/>
<resConst>
<Consts>
<useLimit/>
</Consts>
</resConst>
</dataIdInfo>
<mdLang>
<languageCode Sync="TRUE" value="eng"/>
<countryCode Sync="TRUE" value="USA"/>
</mdLang>
<distInfo>
<distFormat>
<formatName Sync="TRUE">SDE Raster Dataset</formatName>
</distFormat>
</distInfo>
<mdHrLv>
<ScopeCd Sync="TRUE" value="005"/>
</mdHrLv>
<mdHrLvName Sync="TRUE">dataset</mdHrLvName>
<spdoinfo>
<rastinfo>
<rasttype Sync="TRUE">Pixel</rasttype>
<rowcount Sync="TRUE">19589</rowcount>
<colcount Sync="TRUE">20209</colcount>
<rastxsz Sync="TRUE">10.159104</rastxsz>
<rastysz Sync="TRUE">10.159104</rastysz>
<rastbpp Sync="TRUE">8</rastbpp>
<vrtcount Sync="TRUE">1</vrtcount>
<rastorig Sync="TRUE">Upper Left</rastorig>
<rastcmap Sync="TRUE">FALSE</rastcmap>
<rastcomp Sync="TRUE">LZ77</rastcomp>
<rastband Sync="TRUE">4</rastband>
<rastdtyp Sync="TRUE">pixel codes</rastdtyp>
<rastifor Sync="TRUE">SDR</rastifor>
<rastplyr Sync="TRUE">TRUE</rastplyr>
</rastinfo>
</spdoinfo>
<spref>
<horizsys>
<planar>
<planci>
<plance Sync="TRUE">row and column</plance>
<coordrep>
<absres Sync="TRUE">10.159104</absres>
<ordres Sync="TRUE">10.159104</ordres>
</coordrep>
</planci>
</planar>
</horizsys>
</spref>
<mdDateSt Sync="TRUE">20141223</mdDateSt>
</metadata>
