{
 "currentVersion": 11.3,
 "serviceDescription": "HistoricalMaps/Giles_1856_Inset",
 "name": "HistoricalMaps/Giles_1856_Inset",
 "description": "",
 "extent": {
  "xmin": -8798500.57621605,
  "ymin": 5165931.857654455,
  "xmax": -8718797.123643802,
  "ymax": 5241312.725169015,
  "spatialReference": {
   "wkid": 102100,
   "latestWkid": 3857
  }
 },
 "initialExtent": {
  "xmin": -8798500.57621605,
  "ymin": 5165931.857654455,
  "xmax": -8718797.123643802,
  "ymax": 5241312.725169015,
  "spatialReference": {
   "wkid": 102100,
   "latestWkid": 3857
  }
 },
 "fullExtent": {
  "xmin": -8798500.57621605,
  "ymin": 5165931.857654455,
  "xmax": -8718797.123643802,
  "ymax": 5241312.725169015,
  "spatialReference": {
   "wkid": 102100,
   "latestWkid": 3857
  }
 },
 "sortableFields": "",
 "bandCount": 3,
 "pixelType": "U8",
 "minValues": [
  7,
  4,
  0
 ],
 "maxValues": [
  250,
  250,
  250
 ],
 "meanValues": [
  207.35937103288674,
  192.72890644835567,
  180.3310863360581
 ],
 "stdvValues": [
  35.1564850091346,
  35.8837875991196,
  37.73766211985115
 ],
 "hasMultidimensions": false,
 "pixelSizeX": 1.7792140672868053,
 "pixelSizeY": 1.7855994768466932,
 "meanPixelSize": 1.7824067720667491,
 "datasetFormat": "SDR",
 "uncompressedSize": 5673450456,
 "blockWidth": 128,
 "blockHeight": 128,
 "compressionType": "LZ77",
 "bandNames": [
  "Band_1",
  "Band_2",
  "Band_3"
 ],
 "allowCopy": false,
 "allowAnalysis": false,
 "itemAccess": false,
 "inspectionCapabilities": "",
 "minPixelSize": 0,
 "maxPixelSize": 0,
 "copyrightText": "",
 "serviceDataType": "esriImageServiceDataTypeRGB",
 "serviceSourceType": "esriImageServiceSourceTypeDataset",
 "objectIdField": "",
 "fields": [],
 "capabilities": "Image",
 "defaultMosaicMethod": "Center",
 "allowedMosaicMethods": "",
 "sortField": "",
 "sortValue": null,
 "sortAscending": true,
 "mosaicOperator": "First",
 "defaultCompressionQuality": 75,
 "defaultResamplingMethod": "Bilinear",
 "maxImageHeight": 4100,
 "maxImageWidth": 15000,
 "allowRasterFunction": true,
 "rasterFunctionInfos": [
  {
   "name": "None",
   "description": "",
   "help": ""
  }
 ],
 "rasterTypeInfos": [
  {
   "name": "Raster Dataset",
   "description": "Supports all ArcGIS Raster Datasets",
   "help": ""
  }
 ],
 "mensurationCapabilities": "Basic",
 "hasHistograms": true,
 "hasColormap": false,
 "hasRasterAttributeTable": false,
 "minScale": 0,
 "maxScale": 0,
 "exportTilesAllowed": false,
 "supportsStatistics": false,
 "supportsAdvancedQueries": false,
 "editFieldsInfo": null,
 "ownershipBasedAccessControlForRasters": null,
 "allowComputeTiePoints": false,
 "useStandardizedQueries": true,
 "advancedQueryCapabilities": {
  "useStandardizedQueries": true,
  "supportsStatistics": false,
  "supportsOrderBy": false,
  "supportsDistinct": false,
  "supportsPagination": false
 },
 "spatialReference": {
  "wkid": 102100,
  "latestWkid": 3857
 },
 "resampling": false
}
