{
 "currentVersion": 11.3,
 "serviceDescription": "HistoricalMaps/HLC_1955",
 "name": "HistoricalMaps/HLC_1955",
 "description": "",
 "extent": {
  "xmin": 1002495.9387215311,
  "ymin": 715794.9138228779,
  "xmax": 1237677.7258322695,
  "ymax": 956975.3011490752,
  "spatialReference": {
   "wkid": 102717,
   "latestWkid": 2262
  }
 },
 "initialExtent": {
  "xmin": 1002495.9387215311,
  "ymin": 715794.9138228779,
  "xmax": 1237677.7258322695,
  "ymax": 956975.3011490752,
  "spatialReference": {
   "wkid": 102717,
   "latestWkid": 2262
  }
 },
 "fullExtent": {
  "xmin": 1002495.9387215311,
  "ymin": 715794.9138228779,
  "xmax": 1237677.7258322695,
  "ymax": 956975.3011490752,
  "spatialReference": {
   "wkid": 102717,
   "latestWkid": 2262
  }
 },
 "sortableFields": "",
 "bandCount": 3,
 "pixelType": "U16",
 "minValues": [
  86,
  83,
  71
 ],
 "maxValues": [
  255,
  255,
  255
 ],
 "meanValues": [
  224.29846265835437,
  217.66322770892572,
  209.32788364023654
 ],
 "stdvValues": [
  31.512263042289405,
  31.124665442250365,
  31.77641712971377
 ],
 "hasMultidimensions": false,
 "pixelSizeX": 69.293396320194,
 "pixelSizeY": 68.79075508448295,
 "meanPixelSize": 21.044066762206295,
 "datasetFormat": "SDR",
 "uncompressedSize": 71396184,
 "blockWidth": 128,
 "blockHeight": 128,
 "compressionType": "LZ77",
 "bandNames": [
  "Band_1",
  "Band_2",
  "Band_3"
 ],
 "allowCopy": false,
 "allowAnalysis": false,
 "itemAccess": false,
 "inspectionCapabilities": "",
 "minPixelSize": 0,
 "maxPixelSize": 0,
 "copyrightText": "",
 "serviceDataType": "esriImageServiceDataTypeGeneric",
 "serviceSourceType": "esriImageServiceSourceTypeDataset",
 "objectIdField": "",
 "fields": [],
 "capabilities": "Image",
 "defaultMosaicMethod": "Center",
 "allowedMosaicMethods": "",
 "sortField": "",
 "sortValue": null,
 "sortAscending": true,
 "mosaicOperator": "First",
 "defaultCompressionQuality": 75,
 "defaultResamplingMethod": "Bilinear",
 "maxImageHeight": 4100,
 "maxImageWidth": 15000,
 "allowRasterFunction": true,
 "rasterFunctionInfos": [
  {
   "name": "None",
   "description": "",
   "help": ""
  }
 ],
 "rasterTypeInfos": [
  {
   "name": "Raster Dataset",
   "description": "Supports all ArcGIS Raster Datasets",
   "help": ""
  }
 ],
 "mensurationCapabilities": "Basic",
 "hasHistograms": true,
 "hasColormap": false,
 "hasRasterAttributeTable": false,
 "minScale": 0,
 "maxScale": 0,
 "exportTilesAllowed": false,
 "supportsStatistics": false,
 "supportsAdvancedQueries": false,
 "editFieldsInfo": null,
 "ownershipBasedAccessControlForRasters": null,
 "allowComputeTiePoints": false,
 "useStandardizedQueries": true,
 "advancedQueryCapabilities": {
  "useStandardizedQueries": true,
  "supportsStatistics": false,
  "supportsOrderBy": false,
  "supportsDistinct": false,
  "supportsPagination": false
 },
 "spatialReference": {
  "wkid": 102717,
  "latestWkid": 2262
 },
 "resampling": false
}
