View In:
ArcGIS JavaScript
ArcGIS Online Map Viewer
ArcGIS Earth
Service Description: Aerials/ARM_1939
Name: Aerials/ARM_1939
Description:
Single Fused Map Cache: false
Extent:
XMin: 1014149.1802579872
YMin: 715594.6735516404
XMax: 1227588.132890968
YMax: 929358.3155054338
Spatial Reference: 2907
(2907)
Initial Extent:
XMin: 1014149.1802579872
YMin: 715594.6735516404
XMax: 1227588.132890968
YMax: 929358.3155054338
Spatial Reference: 2907
(2907)
Full Extent:
XMin: 1014149.1802579872
YMin: 715594.6735516404
XMax: 1227588.132890968
YMax: 929358.3155054338
Spatial Reference: 2907
(2907)
Pixel Size X: 9.839070328353877
Pixel Size Y: 9.839070328352825
Band Count: 3
Pixel Type: U8
RasterFunction Infos: {"rasterFunctionInfos": [{
"name": "None",
"description": "",
"help": ""
}]}
Mensuration Capabilities: Basic
Inspection Capabilities:
Has Histograms: true
Has Colormap: false
Has Multi Dimensions : false
Rendering Rule:
Min Scale: 0
Max Scale: 0
Resampling: false
Copyright Text:
Service Data Type: esriImageServiceDataTypeRGB
Min Values: 0, 0, 0
Max Values: 254, 255, 255
Mean Values: 87.92373173459373, 97.72518129701174, 97.9610392407117
Standard Deviation Values: 37.80776265012922, 36.38245005806861, 35.18378745365992
Object ID Field:
Fields:
None
Default Mosaic Method: Center
Allowed Mosaic Methods:
SortField:
SortValue: null
Mosaic Operator: First
Default Compression Quality: 75
Default Resampling Method: Bilinear
Max Record Count: null
Max Image Height: 4100
Max Image Width: 15000
Max Download Image Count: null
Max Mosaic Image Count: null
Allow Raster Function: true
Allow Copy: true
Allow Analysis: true
Allow Compute TiePoints: false
Supports Statistics: false
Supports Advanced Queries: false
Use StandardizedQueries: true
Raster Type Infos:
Name: Raster Dataset
Description: Supports all ArcGIS Raster Datasets
Help:
Has Raster Attribute Table: false
Edit Fields Info: null
Ownership Based AccessControl For Rasters: null
Child Resources:
Info
Histograms
Statistics
Key Properties
Legend
Raster Function Infos
Supported Operations:
Export Image
Identify
Measure
Compute Histograms
Compute Statistics Histograms
Get Samples
Compute Class Statistics
Query Boundary
Compute Pixel Location
Compute Angles
Validate
Project