View In:
ArcGIS JavaScript
ArcGIS Online Map Viewer
ArcGIS Earth
ArcMap
View Footprint In:
ArcGIS Online Map Viewer
Service Description: Cemetery/AnnisCemPaperMap
Name: Cemetery/AnnisCemPaperMap
Description:
Single Fused Map Cache: false
Extent:
XMin: 1098149.0523888434
YMin: 813259.2372993965
XMax: 1098382.260289955
YMax: 813567.9561918635
Spatial Reference: 102717
(2262)
Initial Extent:
XMin: 1098149.0523888434
YMin: 813259.2372993965
XMax: 1098382.260289955
YMax: 813567.9561918635
Spatial Reference: 102717
(2262)
Full Extent:
XMin: 1098149.0523888434
YMin: 813259.2372993965
XMax: 1098382.260289955
YMax: 813567.9561918635
Spatial Reference: 102717
(2262)
Pixel Size X: 0.03137044674624309
Pixel Size Y: 0.018551703170901712
Band Count: 1
Pixel Type: U8
RasterFunction Infos: {"rasterFunctionInfos": [{
"name": "None",
"description": "",
"help": ""
}]}
Mensuration Capabilities: Basic
Has Histograms: true
Has Colormap: false
Has Multi Dimensions : false
Rendering Rule:
Min Scale: 0
Max Scale: 0
Copyright Text:
Service Data Type: esriImageServiceDataTypeGeneric
Min Values: 1
Max Values: 255
Mean Values: 253.30324785897898
Standard Deviation Values: 18.671527560798992
Object ID Field:
Fields:
None
Default Mosaic Method: Center
Allowed Mosaic Methods:
SortField:
SortValue: null
Mosaic Operator: First
Default Compression Quality: 75
Default Resampling Method: Bilinear
Max Record Count: null
Max Image Height: 4100
Max Image Width: 15000
Max Download Image Count: null
Max Mosaic Image Count: null
Allow Raster Function: true
Allow Copy: true
Allow Analysis: true
Allow Compute TiePoints: false
Supports Statistics: false
Supports Advanced Queries: false
Use StandardizedQueries: true
Raster Type Infos:
Name: Raster Dataset
Description: Supports all ArcGIS Raster Datasets
Help:
Has Raster Attribute Table: false
Edit Fields Info: null
Ownership Based AccessControl For Rasters: null
Child Resources:
Info
Histograms
Statistics
Key Properties
Legend
Raster Function Infos
Supported Operations:
Export Image
Identify
Measure
Compute Histograms
Compute Statistics Histograms
Get Samples
Compute Class Statistics
Query Boundary
Compute Pixel Location
Compute Angles
Validate
Project