View In:
ArcGIS JavaScript
ArcGIS Online Map Viewer
ArcGIS Earth
ArcMap
View Footprint In:
ArcGIS Online Map Viewer
Service Description: Cemetery/SoNapCemPaperMap
Name: Cemetery/SoNapCemPaperMap
Description:
Single Fused Map Cache: false
Extent:
XMin: 1063746.1168050168
YMin: 799939.4560261018
XMax: 1064271.3725066877
YMax: 800217.0193300027
Spatial Reference: 102717
(2262)
Initial Extent:
XMin: 1063746.1168050168
YMin: 799939.4560261018
XMax: 1064271.3725066877
YMax: 800217.0193300027
Spatial Reference: 102717
(2262)
Full Extent:
XMin: 1063746.1168050168
YMin: 799939.4560261018
XMax: 1064271.3725066877
YMax: 800217.0193300027
Spatial Reference: 102717
(2262)
Pixel Size X: 0.07525153319067175
Pixel Size Y: 0.021375687631950913
Band Count: 1
Pixel Type: U1
RasterFunction Infos: {"rasterFunctionInfos": [{
"name": "None",
"description": "",
"help": ""
}]}
Mensuration Capabilities: Basic
Has Histograms: true
Has Colormap: false
Has Multi Dimensions : false
Rendering Rule:
Min Scale: 0
Max Scale: 0
Copyright Text:
Service Data Type: esriImageServiceDataTypeThematic
Min Values: 0
Max Values: 1
Mean Values: 0.8832392236775436
Standard Deviation Values: 0.3211350161115303
Object ID Field:
Fields:
None
Default Mosaic Method: Center
Allowed Mosaic Methods:
SortField:
SortValue: null
Mosaic Operator: First
Default Compression Quality: 75
Default Resampling Method: Bilinear
Max Record Count: null
Max Image Height: 4100
Max Image Width: 15000
Max Download Image Count: null
Max Mosaic Image Count: null
Allow Raster Function: true
Allow Copy: true
Allow Analysis: true
Allow Compute TiePoints: false
Supports Statistics: false
Supports Advanced Queries: false
Use StandardizedQueries: true
Raster Type Infos:
Name: Raster Dataset
Description: Supports all ArcGIS Raster Datasets
Help:
Has Raster Attribute Table: false
Edit Fields Info: null
Ownership Based AccessControl For Rasters: null
Child Resources:
Info
Histograms
Statistics
Key Properties
Legend
Raster Function Infos
Supported Operations:
Export Image
Identify
Measure
Compute Histograms
Compute Statistics Histograms
Get Samples
Compute Class Statistics
Query Boundary
Compute Pixel Location
Compute Angles
Validate
Project