View In:
ArcGIS JavaScript
ArcGIS Online Map Viewer
ArcGIS Earth
Service Description: HistoricalMaps/Beers_1859_4Band
Name: HistoricalMaps/Beers_1859_4Band
Description:
Single Fused Map Cache: false
Extent:
XMin: 1018120.3965863308
YMin: 727332.1756416786
XMax: 1223425.733389275
YMax: 926338.8678398511
Spatial Reference: 102717
(2262)
Initial Extent:
XMin: 1018120.3965863308
YMin: 727332.1756416786
XMax: 1223425.733389275
YMax: 926338.8678398511
Spatial Reference: 102717
(2262)
Full Extent:
XMin: 1018120.3965863308
YMin: 727332.1756416786
XMax: 1223425.733389275
YMax: 926338.8678398511
Spatial Reference: 102717
(2262)
Pixel Size X: 10.159104201244201
Pixel Size Y: 10.15910420124419
Band Count: 4
Pixel Type: U8
RasterFunction Infos: {"rasterFunctionInfos": [{
"name": "None",
"description": "",
"help": ""
}]}
Mensuration Capabilities: Basic
Inspection Capabilities:
Has Histograms: false
Has Colormap: false
Has Multi Dimensions : false
Rendering Rule:
Min Scale: 0
Max Scale: 0
Resampling: false
Copyright Text:
Service Data Type: esriImageServiceDataTypeGeneric
Min Values: N/A
Max Values: N/A
Mean Values: N/A
Standard Deviation Values: N/A
Object ID Field:
Fields:
None
Default Mosaic Method: Center
Allowed Mosaic Methods:
SortField:
SortValue: null
Mosaic Operator: First
Default Compression Quality: 75
Default Resampling Method: Bilinear
Max Record Count: null
Max Image Height: 4100
Max Image Width: 15000
Max Download Image Count: null
Max Mosaic Image Count: null
Allow Raster Function: true
Allow Copy: false
Allow Analysis: false
Allow Compute TiePoints: false
Supports Statistics: false
Supports Advanced Queries: false
Use StandardizedQueries: true
Raster Type Infos:
Name: Raster Dataset
Description: Supports all ArcGIS Raster Datasets
Help:
Has Raster Attribute Table: false
Edit Fields Info: null
Ownership Based AccessControl For Rasters: null
Child Resources:
Info
Statistics
Key Properties
Legend
Raster Function Infos
Supported Operations:
Export Image
Identify
Compute Histograms
Compute Statistics Histograms
Get Samples
Compute Class Statistics
Query Boundary
Compute Pixel Location
Compute Angles
Validate
Project