View In:
ArcGIS JavaScript
ArcGIS Online Map Viewer
ArcGIS Earth
Service Description: HistoricalMaps/Giles_1856_Main
Name: HistoricalMaps/Giles_1856_Main
Description:
Single Fused Map Cache: false
Extent:
XMin: -8801499.202223368
YMin: 5160880.869682664
XMax: -8717252.283077553
YMax: 5242406.922340554
Spatial Reference: 102100
(3857)
Initial Extent:
XMin: -8801499.202223368
YMin: 5160880.869682664
XMax: -8717252.283077553
YMax: 5242406.922340554
Spatial Reference: 102100
(3857)
Full Extent:
XMin: -8801499.202223368
YMin: 5160880.869682664
XMax: -8717252.283077553
YMax: 5242406.922340554
Spatial Reference: 102100
(3857)
Pixel Size X: 5.9158007967007284
Pixel Size Y: 5.9231366359989925
Band Count: 3
Pixel Type: U8
RasterFunction Infos: {"rasterFunctionInfos": [{
"name": "None",
"description": "",
"help": ""
}]}
Mensuration Capabilities: Basic
Inspection Capabilities:
Has Histograms: true
Has Colormap: false
Has Multi Dimensions : false
Rendering Rule:
Min Scale: 0
Max Scale: 0
Resampling: false
Copyright Text:
Service Data Type: esriImageServiceDataTypeRGB
Min Values: 0, 0, 0
Max Values: 254, 254, 254
Mean Values: 195.3207836046856, 183.3480815198961, 170.92750459426478
Standard Deviation Values: 42.06555356231823, 43.281127691596524, 44.889567654396
Object ID Field:
Fields:
None
Default Mosaic Method: Center
Allowed Mosaic Methods:
SortField:
SortValue: null
Mosaic Operator: First
Default Compression Quality: 75
Default Resampling Method: Bilinear
Max Record Count: null
Max Image Height: 4100
Max Image Width: 15000
Max Download Image Count: null
Max Mosaic Image Count: null
Allow Raster Function: true
Allow Copy: false
Allow Analysis: false
Allow Compute TiePoints: false
Supports Statistics: false
Supports Advanced Queries: false
Use StandardizedQueries: true
Raster Type Infos:
Name: Raster Dataset
Description: Supports all ArcGIS Raster Datasets
Help:
Has Raster Attribute Table: false
Edit Fields Info: null
Ownership Based AccessControl For Rasters: null
Child Resources:
Info
Histograms
Statistics
Key Properties
Legend
Raster Function Infos
Supported Operations:
Export Image
Identify
Compute Histograms
Compute Statistics Histograms
Get Samples
Compute Class Statistics
Query Boundary
Compute Pixel Location
Compute Angles
Validate
Project