View In:
ArcGIS JavaScript
ArcGIS Online Map Viewer
ArcGIS Earth
Service Description: HistoricalMaps/StoneClark_1840
Name: HistoricalMaps/StoneClark_1840
Description:
Single Fused Map Cache: false
Extent:
XMin: 978745.7676132262
YMin: 707070.1094066242
XMax: 1244971.57655465
YMax: 967254.2609578297
Spatial Reference: 102717
(2262)
Initial Extent:
XMin: 978745.7676132262
YMin: 707070.1094066242
XMax: 1244971.57655465
YMax: 967254.2609578297
Spatial Reference: 102717
(2262)
Full Extent:
XMin: 978745.7676132262
YMin: 707070.1094066242
XMax: 1244971.57655465
YMax: 967254.2609578297
Spatial Reference: 102717
(2262)
Pixel Size X: 34.66481887258122
Pixel Size Y: 34.94750188733451
Band Count: 3
Pixel Type: U16
RasterFunction Infos: {"rasterFunctionInfos": [{
"name": "None",
"description": "",
"help": ""
}]}
Mensuration Capabilities: Basic
Inspection Capabilities:
Has Histograms: true
Has Colormap: false
Has Multi Dimensions : false
Rendering Rule:
Min Scale: 0
Max Scale: 0
Resampling: false
Copyright Text:
Service Data Type: esriImageServiceDataTypeGeneric
Min Values: 0, 0, 0
Max Values: 255, 255, 255
Mean Values: 204.83523189953695, 199.81150181988144, 194.25241547561214
Standard Deviation Values: 44.78561872982076, 43.337193924968965, 43.04624081857999
Object ID Field:
Fields:
None
Default Mosaic Method: Center
Allowed Mosaic Methods:
SortField:
SortValue: null
Mosaic Operator: First
Default Compression Quality: 75
Default Resampling Method: Bilinear
Max Record Count: null
Max Image Height: 4100
Max Image Width: 15000
Max Download Image Count: null
Max Mosaic Image Count: null
Allow Raster Function: true
Allow Copy: false
Allow Analysis: false
Allow Compute TiePoints: false
Supports Statistics: false
Supports Advanced Queries: false
Use StandardizedQueries: true
Raster Type Infos:
Name: Raster Dataset
Description: Supports all ArcGIS Raster Datasets
Help:
Has Raster Attribute Table: false
Edit Fields Info: null
Ownership Based AccessControl For Rasters: null
Child Resources:
Info
Histograms
Statistics
Key Properties
Legend
Raster Function Infos
Supported Operations:
Export Image
Identify
Compute Histograms
Compute Statistics Histograms
Get Samples
Compute Class Statistics
Query Boundary
Compute Pixel Location
Compute Angles
Validate
Project