View In:
ArcGIS JavaScript
ArcGIS Online Map Viewer
ArcGIS Earth
ArcMap
View Footprint In:
ArcGIS Online Map Viewer
Service Description: Cemetery/CottageCemPaperMap
Name: Cemetery/CottageCemPaperMap
Description:
Single Fused Map Cache: false
Extent:
XMin: 1026102.7020981205
YMin: 883324.1851414954
XMax: 1026588.9526419875
YMax: 883864.1585204662
Spatial Reference: PROJCS["NAD_1983_StatePlane_New_York_West_FIPS_3103_Feet",GEOGCS["GCS_North_American_1983",DATUM["D_North_American_1983",SPHEROID["GRS_1980",6378137.0,298.257222101]],PRIMEM["Greenwich",0.0],UNIT["Degree",0.0174532925199433]],PROJECTION["Transverse_Mercator"],PARAMETER["False_Easting",1148291.667],PARAMETER["False_Northing",0.0],PARAMETER["Central_Meridian",-78.5833333333333],PARAMETER["Scale_Factor",0.9999375],PARAMETER["Latitude_Of_Origin",40.0],UNIT["Foot_US",0.3048006096012192]]
Initial Extent:
XMin: 1026102.7020981205
YMin: 883324.1851414954
XMax: 1026588.9526419875
YMax: 883864.1585204662
Spatial Reference: PROJCS["NAD_1983_StatePlane_New_York_West_FIPS_3103_Feet",GEOGCS["GCS_North_American_1983",DATUM["D_North_American_1983",SPHEROID["GRS_1980",6378137.0,298.257222101]],PRIMEM["Greenwich",0.0],UNIT["Degree",0.0174532925199433]],PROJECTION["Transverse_Mercator"],PARAMETER["False_Easting",1148291.667],PARAMETER["False_Northing",0.0],PARAMETER["Central_Meridian",-78.5833333333333],PARAMETER["Scale_Factor",0.9999375],PARAMETER["Latitude_Of_Origin",40.0],UNIT["Foot_US",0.3048006096012192]]
Full Extent:
XMin: 1026102.7020981205
YMin: 883324.1851414954
XMax: 1026588.9526419875
YMax: 883864.1585204662
Spatial Reference: PROJCS["NAD_1983_StatePlane_New_York_West_FIPS_3103_Feet",GEOGCS["GCS_North_American_1983",DATUM["D_North_American_1983",SPHEROID["GRS_1980",6378137.0,298.257222101]],PRIMEM["Greenwich",0.0],UNIT["Degree",0.0174532925199433]],PROJECTION["Transverse_Mercator"],PARAMETER["False_Easting",1148291.667],PARAMETER["False_Northing",0.0],PARAMETER["Central_Meridian",-78.5833333333333],PARAMETER["Scale_Factor",0.9999375],PARAMETER["Latitude_Of_Origin",40.0],UNIT["Foot_US",0.3048006096012192]]
Pixel Size X: 0.04502319850620417
Pixel Size Y: 0.03145414917986564
Band Count: 1
Pixel Type: S8
RasterFunction Infos: {"rasterFunctionInfos": [{
"name": "None",
"description": "",
"help": ""
}]}
Mensuration Capabilities: Basic
Has Histograms: true
Has Colormap: false
Has Multi Dimensions : false
Rendering Rule:
Min Scale: 0
Max Scale: 0
Copyright Text:
Service Data Type: esriImageServiceDataTypeThematic
Min Values: 0
Max Values: 1
Mean Values: 0.9284295666319317
Standard Deviation Values: 0.25777530291704115
Object ID Field:
Fields:
None
Default Mosaic Method: Center
Allowed Mosaic Methods:
SortField:
SortValue: null
Mosaic Operator: First
Default Compression Quality: 75
Default Resampling Method: Bilinear
Max Record Count: null
Max Image Height: 4100
Max Image Width: 15000
Max Download Image Count: null
Max Mosaic Image Count: null
Allow Raster Function: true
Allow Copy: true
Allow Analysis: true
Allow Compute TiePoints: false
Supports Statistics: false
Supports Advanced Queries: false
Use StandardizedQueries: true
Raster Type Infos:
Name: Raster Dataset
Description: Supports all ArcGIS Raster Datasets
Help:
Has Raster Attribute Table: false
Edit Fields Info: null
Ownership Based AccessControl For Rasters: null
Child Resources:
Info
Histograms
Statistics
Key Properties
Legend
Raster Function Infos
Supported Operations:
Export Image
Identify
Measure
Compute Histograms
Compute Statistics Histograms
Get Samples
Compute Class Statistics
Query Boundary
Compute Pixel Location
Compute Angles
Validate
Project