View In:
ArcGIS JavaScript
ArcGIS Online Map Viewer
ArcGIS Earth
ArcMap
View Footprint In:
ArcGIS Online Map Viewer
Service Description: Cemetery/VersCemPaperMap
Name: Cemetery/VersCemPaperMap
Description:
Single Fused Map Cache: false
Extent:
XMin: 1035717.1224328876
YMin: 918142.6423351584
XMax: 1035947.5929439275
YMax: 918366.0297719784
Spatial Reference: null
Initial Extent:
XMin: 1035717.1224328876
YMin: 918142.6423351584
XMax: 1035947.5929439275
YMax: 918366.0297719784
Spatial Reference: null
Full Extent:
XMin: 1035717.1224328876
YMin: 918142.6423351584
XMax: 1035947.5929439275
YMax: 918366.0297719784
Spatial Reference: null
Pixel Size X: 0.01745988719999635
Pixel Size Y: 0.021900729099996206
Band Count: 3
Pixel Type: U16
RasterFunction Infos: {"rasterFunctionInfos": [{
"name": "None",
"description": "",
"help": ""
}]}
Mensuration Capabilities:
Has Histograms: true
Has Colormap: false
Has Multi Dimensions : false
Rendering Rule:
Min Scale: 0
Max Scale: 0
Copyright Text:
Service Data Type: esriImageServiceDataTypeGeneric
Min Values: 13, 13, 2
Max Values: 255, 255, 255
Mean Values: 223.05031958582939, 204.7366759702269, 181.8029193035645
Standard Deviation Values: 21.585904286257243, 27.507495399300975, 40.8814953398431
Object ID Field:
Fields:
None
Default Mosaic Method: Center
Allowed Mosaic Methods:
SortField:
SortValue: null
Mosaic Operator: First
Default Compression Quality: 75
Default Resampling Method: Bilinear
Max Record Count: null
Max Image Height: 4100
Max Image Width: 15000
Max Download Image Count: null
Max Mosaic Image Count: null
Allow Raster Function: true
Allow Copy: true
Allow Analysis: true
Allow Compute TiePoints: false
Supports Statistics: false
Supports Advanced Queries: false
Use StandardizedQueries: true
Raster Type Infos:
Name: Raster Dataset
Description: Supports all ArcGIS Raster Datasets
Help:
Has Raster Attribute Table: false
Edit Fields Info: null
Ownership Based AccessControl For Rasters: null
Child Resources:
Info
Histograms
Statistics
Key Properties
Legend
Raster Function Infos
Supported Operations:
Export Image
Identify
Compute Histograms
Compute Statistics Histograms
Get Samples
Compute Class Statistics
Query Boundary
Compute Pixel Location
Compute Angles
Validate
Project