View In:
ArcGIS JavaScript
ArcGIS Online Map Viewer
ArcGIS Earth
Service Description: HistoricalMaps/Beers_1859_3Band
Name: HistoricalMaps/Beers_1859_3Band
Description:
Single Fused Map Cache: false
Extent:
XMin: 1050274.1887766654
YMin: 774863.341466568
XMax: 1223923.8076030416
YMax: 918893.3914388181
Spatial Reference: 102717
(2262)
Initial Extent:
XMin: 1050274.1887766654
YMin: 774863.341466568
XMax: 1223923.8076030416
YMax: 918893.3914388181
Spatial Reference: 102717
(2262)
Full Extent:
XMin: 1050274.1887766654
YMin: 774863.341466568
XMax: 1223923.8076030416
YMax: 918893.3914388181
Spatial Reference: 102717
(2262)
Pixel Size X: 10.04393653920853
Pixel Size Y: 10.043936539208516
Band Count: 3
Pixel Type: U16
RasterFunction Infos: {"rasterFunctionInfos": [{
"name": "None",
"description": "",
"help": ""
}]}
Mensuration Capabilities: Basic
Inspection Capabilities:
Has Histograms: true
Has Colormap: false
Has Multi Dimensions : false
Rendering Rule:
Min Scale: 0
Max Scale: 0
Resampling: false
Copyright Text:
Service Data Type: esriImageServiceDataTypeGeneric
Min Values: 1, 1, 1
Max Values: 257, 257, 257
Mean Values: 227.42117557035274, 224.16730587254952, 218.66228746897352
Standard Deviation Values: 44.03212515469998, 43.24215984686786, 42.88698121449228
Object ID Field:
Fields:
None
Default Mosaic Method: Center
Allowed Mosaic Methods:
SortField:
SortValue: null
Mosaic Operator: First
Default Compression Quality: 75
Default Resampling Method: Bilinear
Max Record Count: null
Max Image Height: 4100
Max Image Width: 15000
Max Download Image Count: null
Max Mosaic Image Count: null
Allow Raster Function: true
Allow Copy: false
Allow Analysis: false
Allow Compute TiePoints: false
Supports Statistics: false
Supports Advanced Queries: false
Use StandardizedQueries: true
Raster Type Infos:
Name: Raster Dataset
Description: Supports all ArcGIS Raster Datasets
Help:
Has Raster Attribute Table: false
Edit Fields Info: null
Ownership Based AccessControl For Rasters: null
Child Resources:
Info
Histograms
Statistics
Key Properties
Legend
Raster Function Infos
Supported Operations:
Export Image
Identify
Compute Histograms
Compute Statistics Histograms
Get Samples
Compute Class Statistics
Query Boundary
Compute Pixel Location
Compute Angles
Validate
Project