View In:
ArcGIS JavaScript
ArcGIS Online Map Viewer
ArcGIS Earth
Service Description: HistoricalMaps/Giles_1856_Inset
Name: HistoricalMaps/Giles_1856_Inset
Description:
Single Fused Map Cache: false
Extent:
XMin: -8798500.57621605
YMin: 5165931.857654455
XMax: -8718797.123643802
YMax: 5241312.725169015
Spatial Reference: 102100
(3857)
Initial Extent:
XMin: -8798500.57621605
YMin: 5165931.857654455
XMax: -8718797.123643802
YMax: 5241312.725169015
Spatial Reference: 102100
(3857)
Full Extent:
XMin: -8798500.57621605
YMin: 5165931.857654455
XMax: -8718797.123643802
YMax: 5241312.725169015
Spatial Reference: 102100
(3857)
Pixel Size X: 1.7792140672868053
Pixel Size Y: 1.7855994768466932
Band Count: 3
Pixel Type: U8
RasterFunction Infos: {"rasterFunctionInfos": [{
"name": "None",
"description": "",
"help": ""
}]}
Mensuration Capabilities: Basic
Inspection Capabilities:
Has Histograms: true
Has Colormap: false
Has Multi Dimensions : false
Rendering Rule:
Min Scale: 0
Max Scale: 0
Resampling: false
Copyright Text:
Service Data Type: esriImageServiceDataTypeRGB
Min Values: 7, 4, 0
Max Values: 250, 250, 250
Mean Values: 207.35937103288674, 192.72890644835567, 180.3310863360581
Standard Deviation Values: 35.1564850091346, 35.8837875991196, 37.73766211985115
Object ID Field:
Fields:
None
Default Mosaic Method: Center
Allowed Mosaic Methods:
SortField:
SortValue: null
Mosaic Operator: First
Default Compression Quality: 75
Default Resampling Method: Bilinear
Max Record Count: null
Max Image Height: 4100
Max Image Width: 15000
Max Download Image Count: null
Max Mosaic Image Count: null
Allow Raster Function: true
Allow Copy: false
Allow Analysis: false
Allow Compute TiePoints: false
Supports Statistics: false
Supports Advanced Queries: false
Use StandardizedQueries: true
Raster Type Infos:
Name: Raster Dataset
Description: Supports all ArcGIS Raster Datasets
Help:
Has Raster Attribute Table: false
Edit Fields Info: null
Ownership Based AccessControl For Rasters: null
Child Resources:
Info
Histograms
Statistics
Key Properties
Legend
Raster Function Infos
Supported Operations:
Export Image
Identify
Compute Histograms
Compute Statistics Histograms
Get Samples
Compute Class Statistics
Query Boundary
Compute Pixel Location
Compute Angles
Validate
Project