View In:
ArcGIS JavaScript
ArcGIS Online Map Viewer
ArcGIS Earth
Service Description: HistoricalMaps/HLC_1955
Name: HistoricalMaps/HLC_1955
Description:
Single Fused Map Cache: false
Extent:
XMin: 1002495.9387215311
YMin: 715794.9138228779
XMax: 1237677.7258322695
YMax: 956975.3011490752
Spatial Reference: 102717
(2262)
Initial Extent:
XMin: 1002495.9387215311
YMin: 715794.9138228779
XMax: 1237677.7258322695
YMax: 956975.3011490752
Spatial Reference: 102717
(2262)
Full Extent:
XMin: 1002495.9387215311
YMin: 715794.9138228779
XMax: 1237677.7258322695
YMax: 956975.3011490752
Spatial Reference: 102717
(2262)
Pixel Size X: 69.293396320194
Pixel Size Y: 68.79075508448295
Band Count: 3
Pixel Type: U16
RasterFunction Infos: {"rasterFunctionInfos": [{
"name": "None",
"description": "",
"help": ""
}]}
Mensuration Capabilities: Basic
Inspection Capabilities:
Has Histograms: true
Has Colormap: false
Has Multi Dimensions : false
Rendering Rule:
Min Scale: 0
Max Scale: 0
Resampling: false
Copyright Text:
Service Data Type: esriImageServiceDataTypeGeneric
Min Values: 86, 83, 71
Max Values: 255, 255, 255
Mean Values: 224.29846265835437, 217.66322770892572, 209.32788364023654
Standard Deviation Values: 31.512263042289405, 31.124665442250365, 31.77641712971377
Object ID Field:
Fields:
None
Default Mosaic Method: Center
Allowed Mosaic Methods:
SortField:
SortValue: null
Mosaic Operator: First
Default Compression Quality: 75
Default Resampling Method: Bilinear
Max Record Count: null
Max Image Height: 4100
Max Image Width: 15000
Max Download Image Count: null
Max Mosaic Image Count: null
Allow Raster Function: true
Allow Copy: false
Allow Analysis: false
Allow Compute TiePoints: false
Supports Statistics: false
Supports Advanced Queries: false
Use StandardizedQueries: true
Raster Type Infos:
Name: Raster Dataset
Description: Supports all ArcGIS Raster Datasets
Help:
Has Raster Attribute Table: false
Edit Fields Info: null
Ownership Based AccessControl For Rasters: null
Child Resources:
Info
Histograms
Statistics
Key Properties
Legend
Raster Function Infos
Supported Operations:
Export Image
Identify
Compute Histograms
Compute Statistics Histograms
Get Samples
Compute Class Statistics
Query Boundary
Compute Pixel Location
Compute Angles
Validate
Project